BEGIN:VCALENDAR
VERSION:2.0
PRODID:-//Prairie Central District - ECPv6.15.18//NONSGML v1.0//EN
CALSCALE:GREGORIAN
METHOD:PUBLISH
X-WR-CALNAME:Prairie Central District
X-ORIGINAL-URL:https://prairiecentral.ca
X-WR-CALDESC:Events for Prairie Central District
REFRESH-INTERVAL;VALUE=DURATION:PT1H
X-Robots-Tag:noindex
X-PUBLISHED-TTL:PT1H
BEGIN:VTIMEZONE
TZID:America/Regina
BEGIN:STANDARD
TZOFFSETFROM:-0600
TZOFFSETTO:-0600
TZNAME:CST
DTSTART:20250101T000000
END:STANDARD
END:VTIMEZONE
BEGIN:VEVENT
DTSTART;VALUE=DATE:20260401
DTEND;VALUE=DATE:20260501
DTSTAMP:20260421T042939
CREATED:20260401T154130Z
LAST-MODIFIED:20260401T154130Z
UID:26114-1775001600-1777593599@prairiecentral.ca
SUMMARY:One Book One Province April 2026
DESCRIPTION:
URL:https://prairiecentral.ca/event/one-book-one-province-april-2026/
ATTACH;FMTTYPE=image/jpeg:https://prairiecentral.ca/wp-content/uploads/2026/04/one-book-one-province-2026.jpg
END:VEVENT
BEGIN:VEVENT
DTSTART;VALUE=DATE:20260401
DTEND;VALUE=DATE:20260701
DTSTAMP:20260421T042939
CREATED:20260401T200944Z
LAST-MODIFIED:20260401T201150Z
UID:26122-1775001600-1782863999@prairiecentral.ca
SUMMARY:Culture Days Hub Sponsorship
DESCRIPTION:#CultureDays Hub Sponsorship is now open!\nWhether you’re a local business\, organization\, or individual passionate about supporting arts\, culture\, heritage and reconciliation in your community\, we want YOU to be a part of this celebration! \nLearn more about how you can get involved: saskculture.ca/culturedays \nCulture Days 2026 will take place September 18 – October 4! \n 
URL:https://prairiecentral.ca/event/culture-days-hub-sponsorship/
ATTACH;FMTTYPE=image/jpeg:https://prairiecentral.ca/wp-content/uploads/2026/04/658669756_1307942837970199_4425085404617442858_n.jpg
END:VEVENT
BEGIN:VEVENT
DTSTART;VALUE=DATE:20260415
DTEND;VALUE=DATE:20260726
DTSTAMP:20260421T042939
CREATED:20260330T201416Z
LAST-MODIFIED:20260415T210914Z
UID:26101-1776211200-1785023999@prairiecentral.ca
SUMMARY:From the Vaults
DESCRIPTION:
URL:https://prairiecentral.ca/event/from-the-vaults/
LOCATION:Humboldt & District Museum
ATTACH;FMTTYPE=image/jpeg:https://prairiecentral.ca/wp-content/uploads/2026/03/From-the-Vaults-poster.jpg
END:VEVENT
BEGIN:VEVENT
DTSTART;VALUE=DATE:20260415
DTEND;VALUE=DATE:20260426
DTSTAMP:20260421T042939
CREATED:20260330T201646Z
LAST-MODIFIED:20260415T211000Z
UID:26105-1776211200-1777161599@prairiecentral.ca
SUMMARY:Student Art Exhibit
DESCRIPTION:
URL:https://prairiecentral.ca/event/student-art-exhibit/
LOCATION:Humboldt & District Gallery
ATTACH;FMTTYPE=image/jpeg:https://prairiecentral.ca/wp-content/uploads/2026/03/HCI-2026-poster.jpg
END:VEVENT
BEGIN:VEVENT
DTSTART;VALUE=DATE:20260417
DTEND;VALUE=DATE:20260424
DTSTAMP:20260421T042939
CREATED:20251112T153247Z
LAST-MODIFIED:20260417T170946Z
UID:24835-1776384000-1776988799@prairiecentral.ca
SUMMARY:Labours of Love\, Under Lamplight
DESCRIPTION:Labours of Love\, Under Lamplight is an exhibition featuring art from Indigenous artists in Saskatchewan\, showcasing a diverse array of experiences and interpretations of Indigenous Art. The exhibition celebrates the various practices in Indigenous art\, ranging from contemporary aesthetics and materials to those rooted in familial traditions.\nIn today’s fast-paced world\, the dedication and labour of love invested in art can be easily overlooked. The concept of “Labour of love” in art emphasises the extensive labour involved in the creation process\, often infused with familial stories\, teachings\, and practices passed down through generations. These expressions of love for the practice and culture are condensed into the final artworks\, representing hours of devotion and labour. We invite viewers to turn the lamplight on\, consider the time and knowledge behind each piece as the artists skilfully worked with familiar and lesser-known materials\, revived from their cultural heritage or passed down through mentorship within the art community. For many Indigenous artists\, their love for their culture serves as a significant motivation in their artistic journey\, enriching the contemporary art scene with an inherent connection to their roots. \nThis exhibition is curated by Holly Aubichon from recent acquisitions to the SK Arts Permanent collection and features the following artists: Stacey Fayant\, Marcy Friesen\, Sally Milne\, Brandon Roy\, Cherelle Williams\, Audra Blais-Boulianne\, Maureen Ledoux\, Russel Iron\, Elaine McArthur\, and Jordy Ironstar.
URL:https://prairiecentral.ca/event/labours-of-love-under-lamplight/
LOCATION:Watrous\, Watrous\, Saskatchewan\, Canada
ATTACH;FMTTYPE=image/jpeg:https://prairiecentral.ca/wp-content/uploads/2025/11/JingleDress.jpg
END:VEVENT
BEGIN:VEVENT
DTSTART;VALUE=DATE:20260417
DTEND;VALUE=DATE:20260503
DTSTAMP:20260421T042939
CREATED:20260326T204338Z
LAST-MODIFIED:20260326T204415Z
UID:26042-1776384000-1777766399@prairiecentral.ca
SUMMARY:Softball Sask Coaching Clinics
DESCRIPTION:Variety of dates and locations … check the website and register through your RAMP account.
URL:https://prairiecentral.ca/event/softball-sask-coaching-clinics/
ATTACH;FMTTYPE=image/jpeg:https://prairiecentral.ca/wp-content/uploads/2026/03/IMG_0349.jpg
END:VEVENT
BEGIN:VEVENT
DTSTART;VALUE=DATE:20260419
DTEND;VALUE=DATE:20260426
DTSTAMP:20260421T042939
CREATED:20260306T165154Z
LAST-MODIFIED:20260306T165154Z
UID:25753-1776556800-1777161599@prairiecentral.ca
SUMMARY:National Volunteer Week
DESCRIPTION:Ignite Volunteerism: A year-long\, nation-building celebration\n\n\n\n\n\n\n\n\n\n\n\n\nInternational Volunteer Year is a once-in-a-generation opportunity to celebrate the power of civic participation and renew Canada’s culture of volunteering. \nIgnite Volunteerism is a year-long effort to elevate the role of civic participation\, rebuild volunteer infrastructure\, and celebrate volunteer stories. \nThis National Volunteer Week (April 19-25\, 2026) we will celebrate the ways in which people in Canada have ignited volunteerism in their communities\, aligning NVW 2026 with Ignite Volunteerism\, deepening our collective impact. \nMore to come: visit www.ivy26.ca for more resources
URL:https://prairiecentral.ca/event/national-volunteer-week/
ATTACH;FMTTYPE=image/jpeg:https://prairiecentral.ca/wp-content/uploads/2026/03/volunteer-canada.jpg
END:VEVENT
BEGIN:VEVENT
DTSTART;TZID=America/Regina:20260420T180000
DTEND;TZID=America/Regina:20260504T180000
DTSTAMP:20260421T042939
CREATED:20260225T161903Z
LAST-MODIFIED:20260415T211116Z
UID:25594-1776708000-1777917600@prairiecentral.ca
SUMMARY:Embracing Risky Play
DESCRIPTION:Children are naturally drawn to risky play—taking physical chances\, seeking excitement\, and satisfying curiosity—and are more physically active when playing outdoors.\nDelivered by 4 experts in the field (see bios below) with decades of experience\, course participants will receive research evidence alongside practical and accessible strategies for overcoming common barriers for implementing risky play at school.\nThe newly released Embracing Risky Play at School resource introduces readers to outdoor play and learning (OPAL) in the kindergarten to middle school years\, explains the difference between risks and hazards\, presents the concept of “Yes” spaces\, and describes how and why risky play supports academic development and student well-being.\nTo learn more or to Register
URL:https://prairiecentral.ca/event/embracing-risky-play/
LOCATION:Virtual
ATTACH;FMTTYPE=image/jpeg:https://prairiecentral.ca/wp-content/uploads/2026/02/OLS-Course-Risky-Play-Spring-2026-Banner.jpg
END:VEVENT
BEGIN:VEVENT
DTSTART;VALUE=DATE:20260421
DTEND;VALUE=DATE:20260608
DTSTAMP:20260421T042939
CREATED:20260408T155035Z
LAST-MODIFIED:20260408T155436Z
UID:26148-1776729600-1780876799@prairiecentral.ca
SUMMARY:SLA Summer Children’s Storytelling & Performer Tours Grants
DESCRIPTION:The Saskatchewan Library Association offers grants each year to member libraries to create summer programming. This year\, SLA is offering 15 grants of up to $300 each for member libraries to offer summer programs for children and teens between July 1 and August 31\, 2026. These grants are generously sponsored and presented by SaskTel.\nApplications for the 2026 Summer Children’s Storytelling & Performer Tours grants open on April 21\, 2026 and close on June 7.\nAll successful applicants are required to submit a final grant report by October 1\, 2026. SLA will pay exact costs via cheque\, up to $300\, once the final report with all receipts has been received.\nMore info\n 
URL:https://prairiecentral.ca/event/sla-summer-childrens-storytelling-performer-tours-grants/
ATTACH;FMTTYPE=image/svg+xml:https://prairiecentral.ca/wp-content/uploads/2026/04/sla-logo.svg
END:VEVENT
BEGIN:VEVENT
DTSTART;TZID=America/Regina:20260421T120000
DTEND;TZID=America/Regina:20260421T133000
DTSTAMP:20260421T042939
CREATED:20260408T213504Z
LAST-MODIFIED:20260409T181607Z
UID:26170-1776772800-1776778200@prairiecentral.ca
SUMMARY:Cultivating Community
DESCRIPTION:Register before April 17 to get the zoom link
URL:https://prairiecentral.ca/event/cultivating-community-growing-ideas-with-communities-in-bloom/
LOCATION:Virtual
ATTACH;FMTTYPE=image/png:https://prairiecentral.ca/wp-content/uploads/2026/04/Rooted-in-Community-1.png
END:VEVENT
END:VCALENDAR