BEGIN:VCALENDAR
VERSION:2.0
PRODID:-//Prairie Central District - ECPv6.15.18//NONSGML v1.0//EN
CALSCALE:GREGORIAN
METHOD:PUBLISH
X-WR-CALNAME:Prairie Central District
X-ORIGINAL-URL:https://prairiecentral.ca
X-WR-CALDESC:Events for Prairie Central District
REFRESH-INTERVAL;VALUE=DURATION:PT1H
X-Robots-Tag:noindex
X-PUBLISHED-TTL:PT1H
BEGIN:VTIMEZONE
TZID:America/Regina
BEGIN:STANDARD
TZOFFSETFROM:-0600
TZOFFSETTO:-0600
TZNAME:CST
DTSTART:20250101T000000
END:STANDARD
END:VTIMEZONE
BEGIN:VEVENT
DTSTART;VALUE=DATE:20260401
DTEND;VALUE=DATE:20260501
DTSTAMP:20260423T132347
CREATED:20260401T154130Z
LAST-MODIFIED:20260401T154130Z
UID:26114-1775001600-1777593599@prairiecentral.ca
SUMMARY:One Book One Province April 2026
DESCRIPTION:
URL:https://prairiecentral.ca/event/one-book-one-province-april-2026/
ATTACH;FMTTYPE=image/jpeg:https://prairiecentral.ca/wp-content/uploads/2026/04/one-book-one-province-2026.jpg
END:VEVENT
BEGIN:VEVENT
DTSTART;VALUE=DATE:20260401
DTEND;VALUE=DATE:20260701
DTSTAMP:20260423T132347
CREATED:20260401T200944Z
LAST-MODIFIED:20260401T201150Z
UID:26122-1775001600-1782863999@prairiecentral.ca
SUMMARY:Culture Days Hub Sponsorship
DESCRIPTION:#CultureDays Hub Sponsorship is now open!\nWhether you’re a local business\, organization\, or individual passionate about supporting arts\, culture\, heritage and reconciliation in your community\, we want YOU to be a part of this celebration! \nLearn more about how you can get involved: saskculture.ca/culturedays \nCulture Days 2026 will take place September 18 – October 4! \n 
URL:https://prairiecentral.ca/event/culture-days-hub-sponsorship/
ATTACH;FMTTYPE=image/jpeg:https://prairiecentral.ca/wp-content/uploads/2026/04/658669756_1307942837970199_4425085404617442858_n.jpg
END:VEVENT
BEGIN:VEVENT
DTSTART;VALUE=DATE:20260415
DTEND;VALUE=DATE:20260426
DTSTAMP:20260423T132347
CREATED:20260330T201646Z
LAST-MODIFIED:20260415T211000Z
UID:26105-1776211200-1777161599@prairiecentral.ca
SUMMARY:Student Art Exhibit
DESCRIPTION:
URL:https://prairiecentral.ca/event/student-art-exhibit/
LOCATION:Humboldt & District Gallery
ATTACH;FMTTYPE=image/jpeg:https://prairiecentral.ca/wp-content/uploads/2026/03/HCI-2026-poster.jpg
END:VEVENT
BEGIN:VEVENT
DTSTART;VALUE=DATE:20260417
DTEND;VALUE=DATE:20260424
DTSTAMP:20260423T132347
CREATED:20251112T153247Z
LAST-MODIFIED:20260417T170946Z
UID:24835-1776384000-1776988799@prairiecentral.ca
SUMMARY:Labours of Love\, Under Lamplight
DESCRIPTION:Labours of Love\, Under Lamplight is an exhibition featuring art from Indigenous artists in Saskatchewan\, showcasing a diverse array of experiences and interpretations of Indigenous Art. The exhibition celebrates the various practices in Indigenous art\, ranging from contemporary aesthetics and materials to those rooted in familial traditions.\nIn today’s fast-paced world\, the dedication and labour of love invested in art can be easily overlooked. The concept of “Labour of love” in art emphasises the extensive labour involved in the creation process\, often infused with familial stories\, teachings\, and practices passed down through generations. These expressions of love for the practice and culture are condensed into the final artworks\, representing hours of devotion and labour. We invite viewers to turn the lamplight on\, consider the time and knowledge behind each piece as the artists skilfully worked with familiar and lesser-known materials\, revived from their cultural heritage or passed down through mentorship within the art community. For many Indigenous artists\, their love for their culture serves as a significant motivation in their artistic journey\, enriching the contemporary art scene with an inherent connection to their roots. \nThis exhibition is curated by Holly Aubichon from recent acquisitions to the SK Arts Permanent collection and features the following artists: Stacey Fayant\, Marcy Friesen\, Sally Milne\, Brandon Roy\, Cherelle Williams\, Audra Blais-Boulianne\, Maureen Ledoux\, Russel Iron\, Elaine McArthur\, and Jordy Ironstar.
URL:https://prairiecentral.ca/event/labours-of-love-under-lamplight/
LOCATION:Watrous\, Watrous\, Saskatchewan\, Canada
ATTACH;FMTTYPE=image/jpeg:https://prairiecentral.ca/wp-content/uploads/2025/11/JingleDress.jpg
END:VEVENT
BEGIN:VEVENT
DTSTART;VALUE=DATE:20260417
DTEND;VALUE=DATE:20260503
DTSTAMP:20260423T132347
CREATED:20260326T204338Z
LAST-MODIFIED:20260326T204415Z
UID:26042-1776384000-1777766399@prairiecentral.ca
SUMMARY:Softball Sask Coaching Clinics
DESCRIPTION:Variety of dates and locations … check the website and register through your RAMP account.
URL:https://prairiecentral.ca/event/softball-sask-coaching-clinics/
ATTACH;FMTTYPE=image/jpeg:https://prairiecentral.ca/wp-content/uploads/2026/03/IMG_0349.jpg
END:VEVENT
BEGIN:VEVENT
DTSTART;VALUE=DATE:20260419
DTEND;VALUE=DATE:20260426
DTSTAMP:20260423T132347
CREATED:20260306T165154Z
LAST-MODIFIED:20260306T165154Z
UID:25753-1776556800-1777161599@prairiecentral.ca
SUMMARY:National Volunteer Week
DESCRIPTION:Ignite Volunteerism: A year-long\, nation-building celebration\n\n\n\n\n\n\n\n\n\n\n\n\nInternational Volunteer Year is a once-in-a-generation opportunity to celebrate the power of civic participation and renew Canada’s culture of volunteering. \nIgnite Volunteerism is a year-long effort to elevate the role of civic participation\, rebuild volunteer infrastructure\, and celebrate volunteer stories. \nThis National Volunteer Week (April 19-25\, 2026) we will celebrate the ways in which people in Canada have ignited volunteerism in their communities\, aligning NVW 2026 with Ignite Volunteerism\, deepening our collective impact. \nMore to come: visit www.ivy26.ca for more resources
URL:https://prairiecentral.ca/event/national-volunteer-week/
ATTACH;FMTTYPE=image/jpeg:https://prairiecentral.ca/wp-content/uploads/2026/03/volunteer-canada.jpg
END:VEVENT
BEGIN:VEVENT
DTSTART;VALUE=DATE:20260421
DTEND;VALUE=DATE:20260608
DTSTAMP:20260423T132347
CREATED:20260408T155035Z
LAST-MODIFIED:20260408T155436Z
UID:26148-1776729600-1780876799@prairiecentral.ca
SUMMARY:SLA Summer Children’s Storytelling & Performer Tours Grants
DESCRIPTION:The Saskatchewan Library Association offers grants each year to member libraries to create summer programming. This year\, SLA is offering 15 grants of up to $300 each for member libraries to offer summer programs for children and teens between July 1 and August 31\, 2026. These grants are generously sponsored and presented by SaskTel.\nApplications for the 2026 Summer Children’s Storytelling & Performer Tours grants open on April 21\, 2026 and close on June 7.\nAll successful applicants are required to submit a final grant report by October 1\, 2026. SLA will pay exact costs via cheque\, up to $300\, once the final report with all receipts has been received.\nMore info\n 
URL:https://prairiecentral.ca/event/sla-summer-childrens-storytelling-performer-tours-grants/
ATTACH;FMTTYPE=image/svg+xml:https://prairiecentral.ca/wp-content/uploads/2026/04/sla-logo.svg
END:VEVENT
BEGIN:VEVENT
DTSTART;TZID=America/Regina:20260424T193000
DTEND;TZID=America/Regina:20260424T213000
DTSTAMP:20260423T132347
CREATED:20260330T201224Z
LAST-MODIFIED:20260330T201224Z
UID:26097-1777059000-1777066200@prairiecentral.ca
SUMMARY:Discovering the Amatis
DESCRIPTION:
URL:https://prairiecentral.ca/event/discovering-the-amatis/
LOCATION:Humboldt & District Gallery
ATTACH;FMTTYPE=image/jpeg:https://prairiecentral.ca/wp-content/uploads/2026/03/Amati-Concert-poster.jpg
END:VEVENT
BEGIN:VEVENT
DTSTART;VALUE=DATE:20260425
DTEND;VALUE=DATE:20260426
DTSTAMP:20260423T132347
CREATED:20260330T183455Z
LAST-MODIFIED:20260423T154204Z
UID:26087-1777075200-1777161599@prairiecentral.ca
SUMMARY:Steak & Stakes
DESCRIPTION:
URL:https://prairiecentral.ca/event/steaks-and-stakes/
LOCATION:Drake Community Center
ATTACH;FMTTYPE=image/jpeg:https://prairiecentral.ca/wp-content/uploads/2026/03/Image-11.jpg
END:VEVENT
BEGIN:VEVENT
DTSTART;TZID=America/Regina:20260425T093000
DTEND;TZID=America/Regina:20260425T153000
DTSTAMP:20260423T132347
CREATED:20260318T220339Z
LAST-MODIFIED:20260318T220339Z
UID:25908-1777109400-1777131000@prairiecentral.ca
SUMMARY:Aboriginal Coaching Module
DESCRIPTION:
URL:https://prairiecentral.ca/event/aboriginal-coaching-module/
LOCATION:TATC Boardroom
ATTACH;FMTTYPE=image/jpeg:https://prairiecentral.ca/wp-content/uploads/2026/03/ACM-TATC.jpg
END:VEVENT
BEGIN:VEVENT
DTSTART;TZID=America/Regina:20260425T100000
DTEND;TZID=America/Regina:20260425T160000
DTSTAMP:20260423T132347
CREATED:20260305T163108Z
LAST-MODIFIED:20260305T163108Z
UID:25739-1777111200-1777132800@prairiecentral.ca
SUMMARY:Museums and Education
DESCRIPTION:In this course\, you will learn about the role of the museum as an educational institution in the community. You will also learn about responding to current issues affecting the sector\, planning and designing audience appropriate education and public programs\, and writing and education and public programming policy. \n$100 Member\, $150 Non Member\, $75 Student \nInstructor: Melanie Rogowski\nMelanie Rogowski is the Director of Education and Exhibits with the Nutrien Wonderhub\, Saskatchewan’s only Children’s Museum. She has over 15 years’ experience working with and running non-profit arts organizations. She holds a BFA and B.Ed in Arts Education from the University of Regina. \nLearn More… \nRegister
URL:https://prairiecentral.ca/event/museums-and-education/
LOCATION:zoom
ATTACH;FMTTYPE=image/png:https://prairiecentral.ca/wp-content/uploads/2025/06/MAS-LOGO-lanyard-copy-1024x236-1.png
END:VEVENT
BEGIN:VEVENT
DTSTART;VALUE=DATE:20260427
DTEND;VALUE=DATE:20260501
DTSTAMP:20260423T132347
CREATED:20260304T161656Z
LAST-MODIFIED:20260304T161656Z
UID:25712-1777248000-1777593599@prairiecentral.ca
SUMMARY:2026 Spring Training Symposium
DESCRIPTION:Register Here \nOur 21st annual Spring Training Symposium will return to the City of Humboldt from April 27 to 30. Thirteen courses will be offered over the 4-days of training. \nTraining sessions will focus on parks/opens spaces\, recreation facilities\, and leadership. Volunteers\, front-line operators\, and supervisors are encouraged to attend. \nNetworking is as important as the training\, and we’re excited to announce that 1 Stop Playgrounds will be hosting the popular Meet and Greet social event on the Monday night of the conference. \nEvent Schedule
URL:https://prairiecentral.ca/event/2026-spring-training-symposium/
LOCATION:Humboldt
ATTACH;FMTTYPE=image/jpeg:https://prairiecentral.ca/wp-content/uploads/2026/03/Spring-Symposium.jpg
END:VEVENT
BEGIN:VEVENT
DTSTART;TZID=America/Regina:20260427T180000
DTEND;TZID=America/Regina:20260504T180000
DTSTAMP:20260423T132347
CREATED:20260225T161903Z
LAST-MODIFIED:20260421T174242Z
UID:25594-1777312800-1777917600@prairiecentral.ca
SUMMARY:Embracing Risky Play
DESCRIPTION:Children are naturally drawn to risky play—taking physical chances\, seeking excitement\, and satisfying curiosity—and are more physically active when playing outdoors.\nDelivered by 4 experts in the field (see bios below) with decades of experience\, course participants will receive research evidence alongside practical and accessible strategies for overcoming common barriers for implementing risky play at school.\nThe newly released Embracing Risky Play at School resource introduces readers to outdoor play and learning (OPAL) in the kindergarten to middle school years\, explains the difference between risks and hazards\, presents the concept of “Yes” spaces\, and describes how and why risky play supports academic development and student well-being.\nTo learn more or to Register
URL:https://prairiecentral.ca/event/embracing-risky-play/
LOCATION:Virtual
ATTACH;FMTTYPE=image/jpeg:https://prairiecentral.ca/wp-content/uploads/2026/02/OLS-Course-Risky-Play-Spring-2026-Banner.jpg
END:VEVENT
BEGIN:VEVENT
DTSTART;TZID=America/Regina:20260427T183000
DTEND;TZID=America/Regina:20260427T210000
DTSTAMP:20260423T132347
CREATED:20260409T181022Z
LAST-MODIFIED:20260409T181022Z
UID:26176-1777314600-1777323600@prairiecentral.ca
SUMMARY:Beaded Tree of Life Suncatcher
DESCRIPTION:
URL:https://prairiecentral.ca/event/beaded-tree-of-life-suncatcher/
ATTACH;FMTTYPE=image/jpeg:https://prairiecentral.ca/wp-content/uploads/2026/04/Image-11.jpg
END:VEVENT
BEGIN:VEVENT
DTSTART;TZID=America/Regina:20260427T190000
DTEND;TZID=America/Regina:20260427T210000
DTSTAMP:20260423T132347
CREATED:20260410T161452Z
LAST-MODIFIED:20260410T161515Z
UID:26188-1777316400-1777323600@prairiecentral.ca
SUMMARY:Women's Wellness Seminar
DESCRIPTION:Register
URL:https://prairiecentral.ca/event/womens-wellness-seminar/
LOCATION:Humboldt
ATTACH;FMTTYPE=image/jpeg:https://prairiecentral.ca/wp-content/uploads/2026/04/Womens-Wellness-Seminar-April-27-Humboldt.jpg
END:VEVENT
BEGIN:VEVENT
DTSTART;TZID=America/Regina:20260428T090000
DTEND;TZID=America/Regina:20260430T160000
DTSTAMP:20260423T132347
CREATED:20260206T150414Z
LAST-MODIFIED:20260206T150414Z
UID:25496-1777366800-1777564800@prairiecentral.ca
SUMMARY:Community Builders Workshop
DESCRIPTION:Community Builders Workshops return. Enhancing Community & Business Prosperity through Experience\, Storytelling\, Fun and WOW Factor!\nWe are excited to have Peter Kenyon back to Saskatchewan and facilitating seven new interactive workshops. The workshop agenda and registration will be available in January.\nApril 28 Humboldt – Register Here\nApril 30 Watrous-Manitou – Register Here\nSEDA is seeking additional Provincial Sponsors for the 2026 series. Download the partnership opportunities from our website!\nhttps://seda.ca/community-builders-workshops/
URL:https://prairiecentral.ca/event/community-builders-workshop/
ATTACH;FMTTYPE=image/jpeg:https://prairiecentral.ca/wp-content/uploads/2026/02/Community-Builders.jpg
END:VEVENT
BEGIN:VEVENT
DTSTART;TZID=America/Regina:20260429T120000
DTEND;TZID=America/Regina:20260429T130000
DTSTAMP:20260423T132347
CREATED:20260408T164921Z
LAST-MODIFIED:20260408T164921Z
UID:26165-1777464000-1777467600@prairiecentral.ca
SUMMARY:Lunch & Learn
DESCRIPTION:REGISTER TODAY for a new SaskCulture lunch & learn webinar\, Psychological Health & Safety: Enhancing Workplace Culture.\nIn our workplaces\, there is often a strong value of providing physical safety\, but what about our psychological safety? In this presentation\, we will define what is psychological health and safety and gain better understanding of how it fits within a workplace. Organizational impacts will be outlined while exploring the CSA National Standards to lead us to a place of understanding the factors that promote and undermine psychological health and safety. At the end of this workshop\, participants should understand the Mental Health Commission of Canada’s National Standard for Psychological Health & Safety in the Workplace Best Practices\, learn the 13 Psycho-Social Workplace Factors contributing to mental health in the workplace\, gain tools to understanding the current state of PH&S in the workplace\, and learn how to implement and measure mental health strategies in the workplace to improve the bottom line.\nSaskCulture is pleased to partner with Bridges Health to discuss tips on how to approach and navigate difficult conversations with family members\, friends\, or co-workers.
URL:https://prairiecentral.ca/event/lunch-learn/
ATTACH;FMTTYPE=image/png:https://prairiecentral.ca/wp-content/uploads/2026/04/Building-A-Psychologically-Safe-Workplace-April-29.png
END:VEVENT
BEGIN:VEVENT
DTSTART;VALUE=DATE:20260430
DTEND;VALUE=DATE:20260502
DTSTAMP:20260423T132347
CREATED:20260408T160326Z
LAST-MODIFIED:20260408T161035Z
UID:26153-1777507200-1777679999@prairiecentral.ca
SUMMARY:Sask. Libraries Conference & free public event - lecture speaker
DESCRIPTION:2026 Saskatchewan Libraries Conference\nThe 2026 Saskatchewan Libraries Conference will take place on April 30 – May 1\, 2026\, at the DoubleTree by Hilton Hotel & Conference Centre in Regina\, SK.  \nThe Saskatchewan Libraries Conference is an annual event that provides the premier professional development opportunity for anyone working in library and information services in Saskatchewan. The theme for the 2026 Saskatchewan Libraries Conference “Libraries Open Doors” celebrates libraries as a point of opportunity offering accessible and welcoming spaces\, filled with a lifetime of possibilities.\nRegular registration closes on April 13\, 2026.\n\n  \nMary Donaldson Lecture Speaker\nDanny Ramadan is a Syrian-Canadian author and LGBTQ+ refugees’ advocate. His memoir Crooked Teeth received raving reviews and was nominated for the Governor General’s Award for Non-Fiction. His latest novel\, The Foghorn Echoes\, won the Lambda Literary Award for Gay Fiction and was nominated for both the BC & Yukon Book Prizes and the City of Vancouver Book Award. His debut novel\, The Clothesline Swing\, won the Independent Publisher Book Award\, was longlisted for Canada Reads\, and has been translated into multiple languages.\nRamadan is also the author of the award-winning Salma children’s series\, which has received the Nautilus Book Award\, the Publishing Triangle Award\, the Middle East Book Award\, and numerous other accolades.\nSince arriving in Canada\, he has raised over $300\,000 to support LGBTQ+ refugees\, securing safe passage for more than two dozen queer and trans individuals. He holds an MFA in Creative Writing from UBC and an Honorary Doctorate in Humane Letters from Adler University.\nHe lives in Vancouver with his husband and two dogs — and when he’s not writing\, he’s probably playing video games.\nRamadan will be speaking on Thursday\, April 30th\, at 7:30 pm. The Mary Donaldson Lecture is a Free Public Event. Although you do not need to register for the conference to attend\, please reserve your spot by emailing us at info@saskla.ca.
URL:https://prairiecentral.ca/event/lecture-speaker-free-public-event/
ATTACH;FMTTYPE=image/svg+xml:https://prairiecentral.ca/wp-content/uploads/2026/04/sla-logo.svg
END:VEVENT
BEGIN:VEVENT
DTSTART;TZID=America/Regina:20260430T180000
DTEND;TZID=America/Regina:20260430T193000
DTSTAMP:20260423T132347
CREATED:20260410T190139Z
LAST-MODIFIED:20260410T190457Z
UID:26207-1777572000-1777577400@prairiecentral.ca
SUMMARY:OTC speaker series: Red Dress Day
DESCRIPTION:Online and at the WDM in Saskatoon \nEmail treatyeducation@otc.ca for a link to join the zoom portion. \n 
URL:https://prairiecentral.ca/event/otc-speaker-series-red-dress-day/
ATTACH;FMTTYPE=image/jpeg:https://prairiecentral.ca/wp-content/uploads/2026/04/Red-Dress-Day-April-30-2026.jpg
END:VEVENT
BEGIN:VEVENT
DTSTART;VALUE=DATE:20260501
DTEND;VALUE=DATE:20260624
DTSTAMP:20260423T132347
CREATED:20251112T153743Z
LAST-MODIFIED:20251112T153743Z
UID:24838-1777593600-1782259199@prairiecentral.ca
SUMMARY:Labours of Love\, Under Lamplight
DESCRIPTION:Labours of Love\, Under Lamplight is an exhibition featuring art from Indigenous artists in Saskatchewan\, showcasing a diverse array of experiences and interpretations of Indigenous Art. The exhibition celebrates the various practices in Indigenous art\, ranging from contemporary aesthetics and materials to those rooted in familial traditions. \nIn today’s fast-paced world\, the dedication and labour of love invested in art can be easily overlooked. The concept of “Labour of love” in art emphasises the extensive labour involved in the creation process\, often infused with familial stories\, teachings\, and practices passed down through generations. These expressions of love for the practice and culture are condensed into the final artworks\, representing hours of devotion and labour. We invite viewers to turn the lamplight on\, consider the time and knowledge behind each piece as the artists skilfully worked with familiar and lesser-known materials\, revived from their cultural heritage or passed down through mentorship within the art community. For many Indigenous artists\, their love for their culture serves as a significant motivation in their artistic journey\, enriching the contemporary art scene with an inherent connection to their roots. \nThis exhibition is curated by Holly Aubichon from recent acquisitions to the SK Arts Permanent collection and features the following artists: Stacey Fayant\, Marcy Friesen\, Sally Milne\, Brandon Roy\, Cherelle Williams\, Audra Blais-Boulianne\, Maureen Ledoux\, Russel Iron\, Elaine McArthur\, and Jordy Ironstar.
URL:https://prairiecentral.ca/event/labours-of-love-under-lamplight-2/
LOCATION:Humboldt & District Museum & Gallery\, 602 Main Street\, Humboldt
ATTACH;FMTTYPE=image/jpeg:https://prairiecentral.ca/wp-content/uploads/2025/11/JingleDress.jpg
END:VEVENT
BEGIN:VEVENT
DTSTART;VALUE=DATE:20260501
DTEND;VALUE=DATE:20260502
DTSTAMP:20260423T132347
CREATED:20260304T170301Z
LAST-MODIFIED:20260304T172358Z
UID:25716-1777593600-1777679999@prairiecentral.ca
SUMMARY:2026 Museum Improvement Micro Grant for Community Museums
DESCRIPTION:Application Deadline: May 1st\, 2026\nProject Start Date: June 1st\, 2026\nProject End Date: November 20th\, 2026 \nThe Museums Association of Saskatchewan (MAS) is pleased to announce that the Government of Saskatchewan\, Ministry of Parks\, Culture and Sport (PCS) is providing funding support to the Saskatchewan museum sector with $47\,000.00 to be used to assist with technology upgrades\, minor accessibility costs\, and support for the development and delivery of programming that contributes to the access\, cultural impact\, and service to their communities. \nThe Museum Improvement Micro Grant for Community Museums will provide successful applicants with a grant of up to $2\,000.00. The applications will be adjudicated based on funds available and merit of the applicants’ outline of how the funds will benefit the mandate and goals of the organization. All projects will be considered for funding\, prioritizing Inclusion\, Diversity\, Equity\, and Access (IDEA)\, and how it supports the engagement of activities that contribute to community wellbeing.\nFull Guidelines\nAll expenses must fall within the indicated start and end date of the grant. Expenses incurred before or after the grant period will not be eligible. \nReporting Deadline: December 5th 2025
URL:https://prairiecentral.ca/event/2026-museum-improvement-micro-grant-for-community-museums/
ATTACH;FMTTYPE=image/png:https://prairiecentral.ca/wp-content/uploads/2025/06/MAS-LOGO-lanyard-copy-1024x236-1.png
END:VEVENT
BEGIN:VEVENT
DTSTART;VALUE=DATE:20260501
DTEND;VALUE=DATE:20260502
DTSTAMP:20260423T132347
CREATED:20260324T194342Z
LAST-MODIFIED:20260416T134840Z
UID:25944-1777593600-1777679999@prairiecentral.ca
SUMMARY:Summer Fun Program - Apply Today!
DESCRIPTION:Turn your summer programming into something impactful\, engaging\, and unforgettable. The Summer Fun Program supports communities in creating inclusive recreation opportunities for children and youth while building leadership skills along the way.\nWith funding and training available\, this initiative empowers local leaders to deliver safe\, creative\, and meaningful programs that bring people together and inspire the next generation.\nMore information
URL:https://prairiecentral.ca/event/summer-fun-program-apply-today/
ATTACH;FMTTYPE=image/png:https://prairiecentral.ca/wp-content/uploads/2026/03/Leadership-Training-1.png
END:VEVENT
BEGIN:VEVENT
DTSTART;TZID=America/Regina:20260501T093000
DTEND;TZID=America/Regina:20260501T093000
DTSTAMP:20260423T132347
CREATED:20260330T173245Z
LAST-MODIFIED:20260330T174939Z
UID:26079-1777627800-1777627800@prairiecentral.ca
SUMMARY:Forever...in motion - rural leader gathering
DESCRIPTION:Rural Leader Gathering – Viscount-May 1\, 2026 \nPlease RSVP by Tuesday\, April 28th to Brenda @\n306-655-2454 or by email\nbrenda.chomyn@saskhealthauthority.ca
URL:https://prairiecentral.ca/event/forever-in-motion-rural-leader-gathering/
LOCATION:Viscount Community Centre\, 102 Drake Ave\, Viscount\, Saskatchewan\, Canada
END:VEVENT
BEGIN:VEVENT
DTSTART;TZID=America/Regina:20260501T190000
DTEND;TZID=America/Regina:20260501T220000
DTSTAMP:20260423T132347
CREATED:20260318T220547Z
LAST-MODIFIED:20260318T220645Z
UID:25914-1777662000-1777672800@prairiecentral.ca
SUMMARY:Volunteer Recognition Night
DESCRIPTION:
URL:https://prairiecentral.ca/event/volunteer-recognition-night/
LOCATION:Hanley\, Hanley\, Saskatchewan\, Canada
ATTACH;FMTTYPE=image/jpeg:https://prairiecentral.ca/wp-content/uploads/2026/03/Hanley.jpg
END:VEVENT
BEGIN:VEVENT
DTSTART;VALUE=DATE:20260502
DTEND;VALUE=DATE:20260504
DTSTAMP:20260423T132347
CREATED:20260325T175347Z
LAST-MODIFIED:20260325T175347Z
UID:25985-1777680000-1777852799@prairiecentral.ca
SUMMARY:Community Golf Coach Training
DESCRIPTION:
URL:https://prairiecentral.ca/event/community-golf-coach-training/
LOCATION:Wascana Country Club Regina
ATTACH;FMTTYPE=image/png:https://prairiecentral.ca/wp-content/uploads/2026/03/Community-Golf-Coach-Training.png
END:VEVENT
BEGIN:VEVENT
DTSTART;TZID=America/Regina:20260502T100000
DTEND;TZID=America/Regina:20260502T140000
DTSTAMP:20260423T132347
CREATED:20260227T164213Z
LAST-MODIFIED:20260227T164213Z
UID:25640-1777716000-1777730400@prairiecentral.ca
SUMMARY:Spring Market
DESCRIPTION:
URL:https://prairiecentral.ca/event/spring-market/
LOCATION:Colonsay\, Colonsay\, Saskatchewan\, Canada
ATTACH;FMTTYPE=image/jpeg:https://prairiecentral.ca/wp-content/uploads/2026/02/Image-55.jpg
END:VEVENT
BEGIN:VEVENT
DTSTART;VALUE=DATE:20260503
DTEND;VALUE=DATE:20260504
DTSTAMP:20260423T132347
CREATED:20260422T203222Z
LAST-MODIFIED:20260422T203534Z
UID:26278-1777766400-1777852799@prairiecentral.ca
SUMMARY:Lieutenant Governor's Heritage Awards – Call for Submissions!
DESCRIPTION:Heritage Sask’s 2026 Lieutenant Governor’s Heritage Awards will take place in June\, and we are currently looking for submissions*. \nIf you know of a project that is worthy of being submitted\, please fill out the form and send it back to us as soon as possible.\n\n\n\n\n\n\n\n\n*There are two award categories: Conservation of Heritage Places and Safeguarding Intangible Cultural Heritage.\nFor examples of past winers\, check out our Awards page\nYou can submit a project on behalf of yourself or another deserving person or group.\nSubmissions deadline is May 3rd\, 2026.\nSave the date: the 2026 Lieutenant Governor’s Heritage Awards will take place on June 24\, at Government House in Regina\n\n\n\n\n\n\n\n\n\n\n\n\n Submission info for the 2026 Awards\n\n\n\n\n\n\n\n\n 
URL:https://prairiecentral.ca/event/heritage-awards-call-for-submissions/
ATTACH;FMTTYPE=image/png:https://prairiecentral.ca/wp-content/uploads/2026/04/e5e15250-6814-9032-8ac4-f8370e385bec.png
END:VEVENT
BEGIN:VEVENT
DTSTART;VALUE=DATE:20260505
DTEND;VALUE=DATE:20260624
DTSTAMP:20260423T132347
CREATED:20260421T173935Z
LAST-MODIFIED:20260421T173935Z
UID:26262-1777939200-1782259199@prairiecentral.ca
SUMMARY:Labours of Love\, Under Lamplight
DESCRIPTION:The Humboldt & District Gallery is pleased to present Labours of Love\, Under Lamplight; a new exhibit featuring art from Indigenous artists in Saskatchewan\, showcasing a diverse array of experiences and interpretations of Indigenous Art. Curated by Holly Aubichon\, it will be on display from Tuesday\, May 5 to Tuesday\, June 23 in the Humboldt & District Gallery. For more information\, please contact (306) 682-5226 or info@humboldtmuseum.ca. This exhibit is touring through OSAC and brought to you by the Humboldt Area Arts Council. Sponsored by Sask Lotteries\, Sask Culture\, SKArts\, and the Government of Canada.
URL:https://prairiecentral.ca/event/labours-of-love-under-lamplight-3/
LOCATION:Humboldt & District Gallery
ATTACH;FMTTYPE=image/jpeg:https://prairiecentral.ca/wp-content/uploads/2026/04/Labours-of-Love-poster.jpg
END:VEVENT
BEGIN:VEVENT
DTSTART;VALUE=DATE:20260506
DTEND;VALUE=DATE:20260510
DTSTAMP:20260423T132347
CREATED:20260410T174647Z
LAST-MODIFIED:20260410T175034Z
UID:26193-1778025600-1778371199@prairiecentral.ca
SUMMARY:Wynyard Wynter Wynds: Murder on the Menu
DESCRIPTION:
URL:https://prairiecentral.ca/event/wynyard-wynter-wynds-murder-on-the-menu/
ATTACH;FMTTYPE=image/jpeg:https://prairiecentral.ca/wp-content/uploads/2026/04/Murder-on-the-Menu.jpg
END:VEVENT
BEGIN:VEVENT
DTSTART;VALUE=DATE:20260506
DTEND;VALUE=DATE:20260510
DTSTAMP:20260423T132347
CREATED:20260422T145749Z
LAST-MODIFIED:20260422T145749Z
UID:26269-1778025600-1778371199@prairiecentral.ca
SUMMARY:Open Community Art Exhibit
DESCRIPTION:
URL:https://prairiecentral.ca/event/open-community-art-exhibit/
ATTACH;FMTTYPE=image/jpeg:https://prairiecentral.ca/wp-content/uploads/2026/04/IMG_0366.jpg
END:VEVENT
END:VCALENDAR