BEGIN:VCALENDAR
VERSION:2.0
PRODID:-//Prairie Central District - ECPv6.15.18//NONSGML v1.0//EN
CALSCALE:GREGORIAN
METHOD:PUBLISH
X-WR-CALNAME:Prairie Central District
X-ORIGINAL-URL:https://prairiecentral.ca
X-WR-CALDESC:Events for Prairie Central District
REFRESH-INTERVAL;VALUE=DURATION:PT1H
X-Robots-Tag:noindex
X-PUBLISHED-TTL:PT1H
BEGIN:VTIMEZONE
TZID:America/Regina
BEGIN:STANDARD
TZOFFSETFROM:-0600
TZOFFSETTO:-0600
TZNAME:CST
DTSTART:20250101T000000
END:STANDARD
END:VTIMEZONE
BEGIN:VEVENT
DTSTART;VALUE=DATE:20260918
DTEND;VALUE=DATE:20261005
DTSTAMP:20260419T103935
CREATED:20251202T173122Z
LAST-MODIFIED:20251202T173136Z
UID:25010-1789689600-1791158399@prairiecentral.ca
SUMMARY:Sask Culture Days 2026
DESCRIPTION:More Details to Come!
URL:https://prairiecentral.ca/event/sask-culture-days-2026/
ATTACH;FMTTYPE=image/png:https://prairiecentral.ca/wp-content/uploads/2025/12/image-22.png
END:VEVENT
END:VCALENDAR