BEGIN:VCALENDAR
VERSION:2.0
PRODID:-//Prairie Central District - ECPv6.15.18//NONSGML v1.0//EN
CALSCALE:GREGORIAN
METHOD:PUBLISH
X-WR-CALNAME:Prairie Central District
X-ORIGINAL-URL:https://prairiecentral.ca
X-WR-CALDESC:Events for Prairie Central District
REFRESH-INTERVAL;VALUE=DURATION:PT1H
X-Robots-Tag:noindex
X-PUBLISHED-TTL:PT1H
BEGIN:VTIMEZONE
TZID:America/Regina
BEGIN:STANDARD
TZOFFSETFROM:-0600
TZOFFSETTO:-0600
TZNAME:CST
DTSTART:20250101T000000
END:STANDARD
END:VTIMEZONE
BEGIN:VEVENT
DTSTART;VALUE=DATE:20260515
DTEND;VALUE=DATE:20260517
DTSTAMP:20260419T104450
CREATED:20260326T222235Z
LAST-MODIFIED:20260327T170247Z
UID:26048-1778803200-1778975999@prairiecentral.ca
SUMMARY:National Indigenous Physical Activity & Wellness conference
DESCRIPTION:Join Canada’s largest gathering celebrating Indigenous sport\, health and wellness; this year with a focus on motivating youth in sports.\n\nThis is the nation’s largest conference on Physical Activity & Wellness for First Nations\, Métis and Inuit people\, created for all of those with an interest in sports\, recreation\, fitness and traditional activity. Join May 15-16\, 2026 (Friday and Saturday) for this exciting conference either in person at the Dakota Dunes Resort on Whitecap Dakota First Nation territory or virtually.\nWe are excited to bring together over 30 diverse leader voices at NIPAW 2026\, where they will share perspectives on the vital role of Indigenous knowledge and community based practices that enhance wellness. This year\, conference will focus on motivating youth to be involved in sport. By centering this year’s dialogue on youth motivation\, we hope to create space for grounded discussions on how sport can uplift our young people\, honour traditional ways of being active and strengthen community wellness for future generations.\n\nLearn More & Register
URL:https://prairiecentral.ca/event/national-indigenous-physical-activity-wellness-conference/
ATTACH;FMTTYPE=image/png:https://prairiecentral.ca/wp-content/uploads/2026/03/Sask-Sport-website-article.png
END:VEVENT
BEGIN:VEVENT
DTSTART;VALUE=DATE:20260522
DTEND;VALUE=DATE:20260523
DTSTAMP:20260419T104450
CREATED:20260409T181327Z
LAST-MODIFIED:20260409T181327Z
UID:26179-1779408000-1779494399@prairiecentral.ca
SUMMARY:Creative Kids application deadline
DESCRIPTION:If your kid’s arts or cultural activity begins in the summer or early fall\, now’s the time to apply for Creative Kids support!\nApply now
URL:https://prairiecentral.ca/event/creative-kids-application-deadline/
ATTACH;FMTTYPE=image/jpeg:https://prairiecentral.ca/wp-content/uploads/2026/04/Image-12.jpg
END:VEVENT
BEGIN:VEVENT
DTSTART;VALUE=DATE:20260523
DTEND;VALUE=DATE:20260524
DTSTAMP:20260419T104450
CREATED:20260212T154108Z
LAST-MODIFIED:20260212T154108Z
UID:25534-1779494400-1779580799@prairiecentral.ca
SUMMARY:RBC Training Ground
DESCRIPTION:RBC Training Ground | Welcome \n 
URL:https://prairiecentral.ca/event/rbc-training-ground/
LOCATION:Saskatoon Field House\, 2020 College Drive\, Saskatoon\, Canada
ATTACH;FMTTYPE=image/png:https://prairiecentral.ca/wp-content/uploads/2026/02/logo-2.png
END:VEVENT
BEGIN:VEVENT
DTSTART;VALUE=DATE:20260529
DTEND;VALUE=DATE:20260601
DTSTAMP:20260419T104450
CREATED:20250729T172049Z
LAST-MODIFIED:20250729T172049Z
UID:23845-1780012800-1780271999@prairiecentral.ca
SUMMARY:5th Annual Prairie Festival
DESCRIPTION:We’re planning a full weekend of fun\, food\, music\, games\, heritage activities\, and community spirit.\n\n Now Calling All:\n Entertainers – Musicians\, dancers\, performers\, and artists\n Community Groups – Host a booth or activity to raise funds for your organization\n Volunteers – Join the festival crew and help us make the magic happen\n Sponsors – Looking to support a vibrant community event and get your name out there? We’d love to partner with you!\n\n Interested? Email us at outhermuseum@outlook.com
URL:https://prairiecentral.ca/event/5th-annual-prairie-festival/
LOCATION:Outlook\, SK
END:VEVENT
BEGIN:VEVENT
DTSTART;TZID=America/Regina:20260531T130000
DTEND;TZID=America/Regina:20260531T130000
DTSTAMP:20260419T104450
CREATED:20260227T164358Z
LAST-MODIFIED:20260227T164358Z
UID:25644-1780232400-1780232400@prairiecentral.ca
SUMMARY:5th Annual Prairie Festival
DESCRIPTION:
URL:https://prairiecentral.ca/event/5th-annual-prairie-festival-2/
LOCATION:Outlook\, SK
ATTACH;FMTTYPE=image/jpeg:https://prairiecentral.ca/wp-content/uploads/2026/02/Image-56.jpg
END:VEVENT
BEGIN:VEVENT
DTSTART;VALUE=DATE:20260601
DTEND;VALUE=DATE:20260701
DTSTAMP:20260419T104450
CREATED:20260325T170421Z
LAST-MODIFIED:20260325T171100Z
UID:25978-1780272000-1782863999@prairiecentral.ca
SUMMARY:ParticipACTION Community Challenge
DESCRIPTION:Register for the Community Challenge June 1-30
URL:https://prairiecentral.ca/event/participaction-community-challenge/
END:VEVENT
BEGIN:VEVENT
DTSTART;VALUE=DATE:20260603
DTEND;VALUE=DATE:20260605
DTSTAMP:20260419T104450
CREATED:20260325T155322Z
LAST-MODIFIED:20260325T203334Z
UID:25965-1780444800-1780617599@prairiecentral.ca
SUMMARY:Sask Seniors Assoc - Annual Convention
DESCRIPTION:June 3-4 2026 \nTravelodge\, Saskatoon
URL:https://prairiecentral.ca/event/sask-seniors-assoc-annual-convention/
LOCATION:Travelodge\, Saskatoon
ATTACH;FMTTYPE=image/png:https://prairiecentral.ca/wp-content/uploads/2026/03/SSM-annual-convention-June-3-4-2026.png
END:VEVENT
BEGIN:VEVENT
DTSTART;TZID=America/Regina:20260603T180000
DTEND;TZID=America/Regina:20260624T180000
DTSTAMP:20260419T104450
CREATED:20260225T162725Z
LAST-MODIFIED:20260225T162725Z
UID:25604-1780509600-1782324000@prairiecentral.ca
SUMMARY:Forest Schools in Practice
DESCRIPTION:Participants will explore the core principles of forest school practice\, examine the neuroscience behind nature-based learning\, and address common challenges faced in outdoor classrooms.\nThe series also focuses on adapting forest school approaches to conventional educational settings\, equipping educators with practical\, evidence-informed strategies that can be applied across a wide range of programs and contexts.\nTo learn more or to Register
URL:https://prairiecentral.ca/event/forest-schools-in-practice/
LOCATION:Virtual
ATTACH;FMTTYPE=image/jpeg:https://prairiecentral.ca/wp-content/uploads/2026/02/Forest-School-June-2026-1.jpg
END:VEVENT
BEGIN:VEVENT
DTSTART;TZID=America/Regina:20260605T110000
DTEND;TZID=America/Regina:20260605T150000
DTSTAMP:20260419T104450
CREATED:20260325T180229Z
LAST-MODIFIED:20260325T180229Z
UID:25990-1780657200-1780671600@prairiecentral.ca
SUMMARY:Wynyard CARRES inclusion for all abilities CARNIVAL
DESCRIPTION:
URL:https://prairiecentral.ca/event/wynyard-carres-inclusion-for-all-abilities-carnival/
ATTACH;FMTTYPE=image/jpeg:https://prairiecentral.ca/wp-content/uploads/2026/03/CARRES-carnival.jpg
END:VEVENT
BEGIN:VEVENT
DTSTART;TZID=America/Regina:20260622T110000
DTEND;TZID=America/Regina:20260622T120000
DTSTAMP:20260419T104450
CREATED:20260324T222939Z
LAST-MODIFIED:20260324T222939Z
UID:25951-1782126000-1782129600@prairiecentral.ca
SUMMARY:Save the date for the Prairie Central AGM
DESCRIPTION:Annual General Meeting\n11:00 am\nvirtual option available\nSTAY TUNED FOR DETAILS
URL:https://prairiecentral.ca/event/save-the-date-for-the-prairie-central-agm/
ATTACH;FMTTYPE=image/png:https://prairiecentral.ca/wp-content/uploads/2026/03/Notice-of-Prairie-CEntral-District-Annual-General-Meeting.png
END:VEVENT
BEGIN:VEVENT
DTSTART;TZID=America/Regina:20260629T180000
DTEND;TZID=America/Regina:20260720T180000
DTSTAMP:20260419T104450
CREATED:20260225T162912Z
LAST-MODIFIED:20260225T162912Z
UID:25607-1782756000-1784570400@prairiecentral.ca
SUMMARY:Connecting Children to Nature through Indigenous Teachings
DESCRIPTION:This four-part workshop series will combine the core teachings of the books Heartbeat of the Earth and Whispers of the Earth. The knowledge will integrate the teachings into everyday life whether in the classroom\, play school or comfort of your backyard. The focus of the sessions will include the power of ceremony\, mindfulness\, gratitude\, All My Relations and Indigenous games.\nTo learn more or to Register
URL:https://prairiecentral.ca/event/connecting-children-to-nature-through-indigenous-teachings/
LOCATION:Virtual
ATTACH;FMTTYPE=image/jpeg:https://prairiecentral.ca/wp-content/uploads/2026/02/Outdoor-Learning-Course-Connecting-Children-Spring-2026-Banner.jpg
END:VEVENT
BEGIN:VEVENT
DTSTART;VALUE=DATE:20260707
DTEND;VALUE=DATE:20260710
DTSTAMP:20260419T104450
CREATED:20260312T155310Z
LAST-MODIFIED:20260326T161707Z
UID:25819-1783382400-1783641599@prairiecentral.ca
SUMMARY:George Gordon First Nation POWWOW
DESCRIPTION:
URL:https://prairiecentral.ca/event/george-gordon-first-nation-powwow/
ATTACH;FMTTYPE=image/jpeg:https://prairiecentral.ca/wp-content/uploads/2026/03/GGFN-powwpw-July-7-9-2026.jpg
END:VEVENT
BEGIN:VEVENT
DTSTART;VALUE=DATE:20260710
DTEND;VALUE=DATE:20260713
DTSTAMP:20260419T104450
CREATED:20260415T210814Z
LAST-MODIFIED:20260415T210814Z
UID:26224-1783641600-1783900799@prairiecentral.ca
SUMMARY:The Salt Shaker
DESCRIPTION:
URL:https://prairiecentral.ca/event/the-salt-shaker/
LOCATION:Manitou Beach
ATTACH;FMTTYPE=image/jpeg:https://prairiecentral.ca/wp-content/uploads/2026/04/IMG_0361.jpg
END:VEVENT
BEGIN:VEVENT
DTSTART;VALUE=DATE:20260726
DTEND;VALUE=DATE:20260801
DTSTAMP:20260419T104450
CREATED:20260123T150752Z
LAST-MODIFIED:20260123T150752Z
UID:25397-1785024000-1785542399@prairiecentral.ca
SUMMARY:2026 Tony Cote Summer Games
DESCRIPTION:The Battlefords Agency Tribal Chiefs (BATC) will proudly host the 2026 Tony Cote Summer Games in the Battlefords from July 26–31\, 2026!\n\n\n\nThis year’s Games are especially meaningful as we commemorate 150 Years of Treaty No. 6—a legacy of strength\, unity\, and cultural pride.\n\n\nWe’re honoured to welcome athletes\, families\, and Nations from across Saskatchewan.\n\nMore info and updates here
URL:https://prairiecentral.ca/event/2026-tony-cote-summer-games/
LOCATION:The Battlefords
ATTACH;FMTTYPE=image/jpeg:https://prairiecentral.ca/wp-content/uploads/2026/01/619685151_1305172578305460_6459407066870464752_n.jpg
END:VEVENT
BEGIN:VEVENT
DTSTART;VALUE=DATE:20260918
DTEND;VALUE=DATE:20261005
DTSTAMP:20260419T104450
CREATED:20251202T173122Z
LAST-MODIFIED:20251202T173136Z
UID:25010-1789689600-1791158399@prairiecentral.ca
SUMMARY:Sask Culture Days 2026
DESCRIPTION:More Details to Come!
URL:https://prairiecentral.ca/event/sask-culture-days-2026/
ATTACH;FMTTYPE=image/png:https://prairiecentral.ca/wp-content/uploads/2025/12/image-22.png
END:VEVENT
END:VCALENDAR