BEGIN:VCALENDAR
VERSION:2.0
PRODID:-//Prairie Central District - ECPv6.15.18//NONSGML v1.0//EN
CALSCALE:GREGORIAN
METHOD:PUBLISH
X-WR-CALNAME:Prairie Central District
X-ORIGINAL-URL:https://prairiecentral.ca
X-WR-CALDESC:Events for Prairie Central District
REFRESH-INTERVAL;VALUE=DURATION:PT1H
X-Robots-Tag:noindex
X-PUBLISHED-TTL:PT1H
BEGIN:VTIMEZONE
TZID:America/Regina
BEGIN:STANDARD
TZOFFSETFROM:-0600
TZOFFSETTO:-0600
TZNAME:CST
DTSTART:20250101T000000
END:STANDARD
END:VTIMEZONE
BEGIN:VEVENT
DTSTART;VALUE=DATE:20260710
DTEND;VALUE=DATE:20260713
DTSTAMP:20260419T145724
CREATED:20260415T210814Z
LAST-MODIFIED:20260415T210814Z
UID:26224-1783641600-1783900799@prairiecentral.ca
SUMMARY:The Salt Shaker
DESCRIPTION:
URL:https://prairiecentral.ca/event/the-salt-shaker/
LOCATION:Manitou Beach
ATTACH;FMTTYPE=image/jpeg:https://prairiecentral.ca/wp-content/uploads/2026/04/IMG_0361.jpg
END:VEVENT
BEGIN:VEVENT
DTSTART;VALUE=DATE:20260726
DTEND;VALUE=DATE:20260801
DTSTAMP:20260419T145724
CREATED:20260123T150752Z
LAST-MODIFIED:20260123T150752Z
UID:25397-1785024000-1785542399@prairiecentral.ca
SUMMARY:2026 Tony Cote Summer Games
DESCRIPTION:The Battlefords Agency Tribal Chiefs (BATC) will proudly host the 2026 Tony Cote Summer Games in the Battlefords from July 26–31\, 2026!\n\n\n\nThis year’s Games are especially meaningful as we commemorate 150 Years of Treaty No. 6—a legacy of strength\, unity\, and cultural pride.\n\n\nWe’re honoured to welcome athletes\, families\, and Nations from across Saskatchewan.\n\nMore info and updates here
URL:https://prairiecentral.ca/event/2026-tony-cote-summer-games/
LOCATION:The Battlefords
ATTACH;FMTTYPE=image/jpeg:https://prairiecentral.ca/wp-content/uploads/2026/01/619685151_1305172578305460_6459407066870464752_n.jpg
END:VEVENT
BEGIN:VEVENT
DTSTART;VALUE=DATE:20260918
DTEND;VALUE=DATE:20261005
DTSTAMP:20260419T145724
CREATED:20251202T173122Z
LAST-MODIFIED:20251202T173136Z
UID:25010-1789689600-1791158399@prairiecentral.ca
SUMMARY:Sask Culture Days 2026
DESCRIPTION:More Details to Come!
URL:https://prairiecentral.ca/event/sask-culture-days-2026/
ATTACH;FMTTYPE=image/png:https://prairiecentral.ca/wp-content/uploads/2025/12/image-22.png
END:VEVENT
END:VCALENDAR